BEGIN:VCALENDAR
VERSION:2.0
PRODID:-//Squarespace Inc/Squarespace 6//v6//EN
BEGIN:VEVENT
UID:5ac71b0c8a922d6fb22867fb@squarespace.com
DTSTAMP:20180406T070732Z
DTSTART:20180410T181600Z
DTEND:20180411T001200Z
SUMMARY:Prayer & Fasting
END:VEVENT
END:VCALENDAR
