BEGIN:VCALENDAR
VERSION:2.0
PRODID:-//Squarespace Inc/Squarespace 6//v6//EN
BEGIN:VEVENT
UID:5ac71da3758d461c8c456269@squarespace.com
DTSTAMP:20180406T071612Z
DTSTART:20180415T073000Z
DTEND:20180415T090000Z
SUMMARY:Hui e
END:VEVENT
END:VCALENDAR
