BEGIN:VCALENDAR
VERSION:2.0
PRODID:-//Squarespace Inc/Squarespace 6//v6//EN
BEGIN:VEVENT
UID:5ac71ec5575d1fe0344af9b9@squarespace.com
DTSTAMP:20180406T073054Z
DTSTART:20180428T060000Z
DTEND:20180428T080000Z
SUMMARY:Gems Quartet Dining
END:VEVENT
END:VCALENDAR
