BEGIN:VCALENDAR
VERSION:2.0
PRODID:-//Squarespace Inc/Squarespace 6//v6//EN
BEGIN:VEVENT
UID:5b6fe55bb8a0453701a4c37b@squarespace.com
DTSTAMP:20180812T074521Z
DTSTART:20180814T181600Z
DTEND:20180815T001200Z
SUMMARY:Prayer & Fasting
END:VEVENT
END:VCALENDAR
