BEGIN:VCALENDAR
VERSION:2.0
PRODID:-//Squarespace Inc/Squarespace 6//v6//EN
BEGIN:VEVENT
UID:5a7169ff0d9297b058443917@squarespace.com
DTSTAMP:20180131T070455Z
DTSTART:20180209T200000Z
DTEND:20180209T230000Z
SUMMARY:Church Working Bee
END:VEVENT
END:VCALENDAR
