BEGIN:VCALENDAR
VERSION:2.0
PRODID:-//Squarespace Inc/Squarespace 6//v6//EN
BEGIN:VEVENT
UID:5a5717990d92975070bc2607@squarespace.com
DTSTAMP:20180111T075714Z
DTSTART:20180216T053000Z
DTEND:20180217T040000Z
SUMMARY:Whakakite/BluePrints
END:VEVENT
END:VCALENDAR
