BEGIN:VCALENDAR
VERSION:2.0
PRODID:-//Squarespace Inc/Squarespace 6//v6//EN
BEGIN:VEVENT
UID:5a4b3bc5c83025f844bd1988@squarespace.com
DTSTAMP:20180102T080208Z
DTSTART:20180113T230000Z
DTEND:20180114T010000Z
SUMMARY:Citylife Summer Scene
END:VEVENT
END:VCALENDAR
