BEGIN:VCALENDAR
VERSION:2.0
PRODID:-//Squarespace Inc/Squarespace 6//v6//EN
BEGIN:VEVENT
UID:5a4b3c880d92977993408cd9@squarespace.com
DTSTAMP:20180102T080439Z
DTSTART:20180120T230000Z
DTEND:20180121T010000Z
SUMMARY:Citylife Summer Scene
END:VEVENT
END:VCALENDAR
