BEGIN:VCALENDAR
VERSION:2.0
PRODID:-//Squarespace Inc/Squarespace 6//v6//EN
BEGIN:VEVENT
UID:5a4b3d3053450a63fe973af2@squarespace.com
DTSTAMP:20180102T080649Z
DTSTART:20180127T230000Z
DTEND:20180128T010000Z
SUMMARY:Citylife Summer Scene
END:VEVENT
END:VCALENDAR
