BEGIN:VCALENDAR
VERSION:2.0
PRODID:-//Squarespace Inc/Squarespace 6//v6//EN
BEGIN:VEVENT
UID:5b3c7ec0562fa782f9d3c05a@squarespace.com
DTSTAMP:20180704T080353Z
DTSTART:20180710T073000Z
DTEND:20180710T083000Z
SUMMARY:Parenting Sexuality Course
END:VEVENT
END:VCALENDAR
