BEGIN:VCALENDAR
VERSION:2.0
PRODID:-//Squarespace Inc/Squarespace 6//v6//EN
BEGIN:VEVENT
UID:5b3c7e31f950b77f516f6414@squarespace.com
DTSTAMP:20180704T080023Z
DTSTART:20180710T181600Z
DTEND:20180711T001200Z
SUMMARY:Prayer & Fasting
END:VEVENT
END:VCALENDAR
