BEGIN:VCALENDAR
VERSION:2.0
PRODID:-//Squarespace Inc/Squarespace 6//v6//EN
BEGIN:VEVENT
UID:5b3c7fef562fa782f9d3d7e3@squarespace.com
DTSTAMP:20180704T081002Z
DTSTART:20180715T073000Z
DTEND:20180715T090000Z
SUMMARY:Hui E
END:VEVENT
END:VCALENDAR
