BEGIN:VCALENDAR
VERSION:2.0
PRODID:-//Squarespace Inc/Squarespace 6//v6//EN
BEGIN:VEVENT
UID:5b3c80e66d2a7346fac042eb@squarespace.com
DTSTAMP:20180704T081300Z
DTSTART:20180721T073000Z
DTEND:20180721T090000Z
SUMMARY:GEMs Towards Wholeness Evening
END:VEVENT
END:VCALENDAR
