BEGIN:VCALENDAR
VERSION:2.0
PRODID:-//Squarespace Inc/Squarespace 6//v6//EN
BEGIN:VEVENT
UID:5b3c7f722b6a28173347fcad@squarespace.com
DTSTAMP:20180704T080505Z
DTSTART:20180724T073000Z
DTEND:20180724T093000Z
SUMMARY:Parenting Sexuality Course
END:VEVENT
END:VCALENDAR
