BEGIN:VCALENDAR
VERSION:2.0
PRODID:-//Squarespace Inc/Squarespace 6//v6//EN
BEGIN:VEVENT
UID:5b1107d02b6a28c2b51ea4a7@squarespace.com
DTSTAMP:20180601T090545Z
DTSTART:20180612T073000Z
DTEND:20180612T093000Z
SUMMARY:Moral Revolution: Parenting Sexuality
END:VEVENT
END:VCALENDAR
