BEGIN:VCALENDAR
VERSION:2.0
PRODID:-//Squarespace Inc/Squarespace 6//v6//EN
BEGIN:VEVENT
UID:5b1107b3562fa7f010a939ef@squarespace.com
DTSTAMP:20180601T090455Z
DTSTART:20180612T181600Z
DTEND:20180613T001200Z
SUMMARY:Prayer & Fasting 
END:VEVENT
END:VCALENDAR
