BEGIN:VCALENDAR
VERSION:2.0
PRODID:-//Squarespace Inc/Squarespace 6//v6//EN
BEGIN:VEVENT
UID:5b11066a2b6a28c2b51e85ce@squarespace.com
DTSTAMP:20180601T084526Z
DTSTART:20180616T043000Z
DTEND:20180616T060000Z
SUMMARY:Hui E!
END:VEVENT
END:VCALENDAR
