BEGIN:VCALENDAR
VERSION:2.0
PRODID:-//Squarespace Inc/Squarespace 6//v6//EN
BEGIN:VEVENT
UID:5aa736739140b783c1bf916f@squarespace.com
DTSTAMP:20180313T022652Z
DTSTART:20180313T171600Z
DTEND:20180313T231200Z
SUMMARY:Prayer & Fasting
END:VEVENT
END:VCALENDAR
