BEGIN:VCALENDAR
VERSION:2.0
PRODID:-//Squarespace Inc/Squarespace 6//v6//EN
BEGIN:VEVENT
UID:5aa736f50d9297e66dbf6809@squarespace.com
DTSTAMP:20180313T023102Z
DTSTART:20180318T063000Z
DTEND:20180318T080000Z
SUMMARY:Hui e
END:VEVENT
END:VCALENDAR
