BEGIN:VCALENDAR
VERSION:2.0
PRODID:-//Squarespace Inc/Squarespace 6//v6//EN
BEGIN:VEVENT
UID:5ae81df888251b2b8a8cbf92@squarespace.com
DTSTAMP:20180510T071835Z
DTSTART:20180515T181600Z
DTEND:20180516T001200Z
SUMMARY:Prayer & Fasting
END:VEVENT
END:VCALENDAR
