BEGIN:VCALENDAR
VERSION:2.0
PRODID:-//Squarespace Inc/Squarespace 6//v6//EN
BEGIN:VEVENT
UID:5af7f34e352f537697119506@squarespace.com
DTSTAMP:20180513T082032Z
DTSTART:20180520T073000Z
DTEND:20180520T090000Z
SUMMARY:Hui e 
END:VEVENT
END:VCALENDAR
