BEGIN:VCALENDAR
VERSION:2.0
PRODID:-//Squarespace Inc/Squarespace 6//v6//EN
BEGIN:VEVENT
UID:5af3f2591ae6cfb8be18d58f@squarespace.com
DTSTAMP:20180517T081254Z
DTSTART:20180525T200000Z
DTEND:20180525T220000Z
SUMMARY:Women's Breakfast with Jill Smith
END:VEVENT
END:VCALENDAR
