BEGIN:VCALENDAR
VERSION:2.0
PRODID:-//Squarespace Inc/Squarespace 6//v6//EN
BEGIN:VEVENT
UID:5a0d2e7953450a5e824dbebc@squarespace.com
DTSTAMP:20181105T075105Z
DTSTART:20181117T030000Z
DTEND:20181117T063000Z
SUMMARY:GEMS Swap till you Drop
END:VEVENT
END:VCALENDAR
