BEGIN:VCALENDAR
VERSION:2.0
PRODID:-//Squarespace Inc/Squarespace 6//v6//EN
BEGIN:VEVENT
UID:5a010d1753450a679ee9b978@squarespace.com
DTSTAMP:20181101T014459Z
DTSTART:20181124T230000Z
DTEND:20181125T010000Z
SUMMARY:Thanksgiving Lunch
END:VEVENT
END:VCALENDAR
