BEGIN:VCALENDAR
VERSION:2.0
PRODID:-//Squarespace Inc/Squarespace 6//v6//EN
BEGIN:VEVENT
UID:5b8f2e56352f53909ed1253a@squarespace.com
DTSTAMP:20180905T012757Z
DTSTART:20181101T210000Z
DTEND:20181103T220000Z
SUMMARY:Earthed
END:VEVENT
END:VCALENDAR
