BEGIN:VCALENDAR
VERSION:2.0
PRODID:-//Squarespace Inc/Squarespace 6//v6//EN
BEGIN:VEVENT
UID:5bf2649c352f533b08d0aed0@squarespace.com
DTSTAMP:20181119T072341Z
DTSTART:20181120T171600Z
DTEND:20181120T231200Z
SUMMARY:Prayer &amp\; Fasting 
END:VEVENT
END:VCALENDAR
