BEGIN:VCALENDAR
VERSION:2.0
PRODID:-//Squarespace Inc/Squarespace 6//v6//EN
BEGIN:VEVENT
UID:5bbda46a9140b76c6c5f1689@squarespace.com
DTSTAMP:20181010T070432Z
DTSTART:20181016T171600Z
DTEND:20181016T231200Z
SUMMARY:Prayer &amp\; Fasting
END:VEVENT
END:VCALENDAR
