BEGIN:VCALENDAR
VERSION:2.0
PRODID:-//Squarespace Inc/Squarespace 6//v6//EN
BEGIN:VEVENT
UID:5bbda4907817f7f4ebdde791@squarespace.com
DTSTAMP:20181010T070614Z
DTSTART:20181021T063000Z
DTEND:20181021T080000Z
SUMMARY:Hui e (gather)
END:VEVENT
END:VCALENDAR
