BEGIN:VCALENDAR
VERSION:2.0
PRODID:-//Squarespace Inc/Squarespace 6//v6//EN
BEGIN:VEVENT
UID:5bc979497817f79f2a87a657@squarespace.com
DTSTAMP:20181019T063028Z
DTSTART:20181026T060000Z
DTEND:20181026T080000Z
SUMMARY:Surge Youth evening with Andy Pigott
END:VEVENT
END:VCALENDAR
