BEGIN:VCALENDAR
VERSION:2.0
PRODID:-//Squarespace Inc/Squarespace 6//v6//EN
BEGIN:VEVENT
UID:5bbda4f3419202d690b5d17e@squarespace.com
DTSTAMP:20181010T071213Z
DTSTART:20181026T203000Z
DTEND:20181026T233000Z
SUMMARY:Love this City
END:VEVENT
END:VCALENDAR
