BEGIN:VCALENDAR
VERSION:2.0
PRODID:-//Squarespace Inc/Squarespace 6//v6//EN
BEGIN:VEVENT
UID:5bc97898f9619a71ba41bf68@squarespace.com
DTSTAMP:20181019T062658Z
DTSTART:20181026T190000Z
DTEND:20181026T203000Z
SUMMARY:Women's Breakfast
END:VEVENT
END:VCALENDAR
