BEGIN:VCALENDAR
VERSION:2.0
PRODID:-//Squarespace Inc/Squarespace 6//v6//EN
BEGIN:VEVENT
UID:5b6fe6b7032be42d1405cdc3@squarespace.com
DTSTAMP:20180812T075448Z
DTSTART:20180901T060000Z
DTEND:20180901T090000Z
SUMMARY:GEMs Quartet Dining
END:VEVENT
END:VCALENDAR
