BEGIN:VCALENDAR
VERSION:2.0
PRODID:-//Squarespace Inc/Squarespace 6//v6//EN
BEGIN:VEVENT
UID:5b8f2c0888251bcf12bd6e28@squarespace.com
DTSTAMP:20180905T010729Z
DTSTART:20180911T181600Z
DTEND:20180912T001200Z
SUMMARY:Prayer & Fasting
END:VEVENT
END:VCALENDAR
