BEGIN:VCALENDAR
VERSION:2.0
PRODID:-//Squarespace Inc/Squarespace 6//v6//EN
BEGIN:VEVENT
UID:5b8f2cb770a6ad4209c69ad8@squarespace.com
DTSTAMP:20180905T011300Z
DTSTART:20180915T043000Z
DTEND:20180915T073000Z
SUMMARY:Hui e - The Greatest Showman movie screening
END:VEVENT
END:VCALENDAR
