BEGIN:VCALENDAR
VERSION:2.0
PRODID:-//Squarespace Inc/Squarespace 6//v6//EN
BEGIN:VEVENT
UID:5b8f3248352f53909ed152e5@squarespace.com
DTSTAMP:20180905T013805Z
DTSTART:20180915T010000Z
DTEND:20180915T040000Z
SUMMARY:Huia Come Home - hosted by 
END:VEVENT
END:VCALENDAR
