BEGIN:VCALENDAR
VERSION:2.0
PRODID:-//Squarespace Inc/Squarespace 6//v6//EN
BEGIN:VEVENT
UID:5b6fe91b0ebbe8405cdeb9d9@squarespace.com
DTSTAMP:20180905T010521Z
DTSTART:20180916T003000Z
DTEND:20180916T020000Z
SUMMARY:Newcomers Lunch
END:VEVENT
END:VCALENDAR
